BEGIN:VCALENDAR
VERSION:2.0
PRODID:-//PensionsEurope - ECPv6.15.20//NONSGML v1.0//EN
CALSCALE:GREGORIAN
METHOD:PUBLISH
X-WR-CALNAME:PensionsEurope
X-ORIGINAL-URL:https://pensionseurope.eu
X-WR-CALDESC:Events for PensionsEurope
REFRESH-INTERVAL;VALUE=DURATION:PT1H
X-Robots-Tag:noindex
X-PUBLISHED-TTL:PT1H
BEGIN:VTIMEZONE
TZID:Europe/Brussels
BEGIN:DAYLIGHT
TZOFFSETFROM:+0100
TZOFFSETTO:+0200
TZNAME:CEST
DTSTART:20230326T010000
END:DAYLIGHT
BEGIN:STANDARD
TZOFFSETFROM:+0200
TZOFFSETTO:+0100
TZNAME:CET
DTSTART:20231029T010000
END:STANDARD
BEGIN:DAYLIGHT
TZOFFSETFROM:+0100
TZOFFSETTO:+0200
TZNAME:CEST
DTSTART:20240331T010000
END:DAYLIGHT
BEGIN:STANDARD
TZOFFSETFROM:+0200
TZOFFSETTO:+0100
TZNAME:CET
DTSTART:20241027T010000
END:STANDARD
BEGIN:DAYLIGHT
TZOFFSETFROM:+0100
TZOFFSETTO:+0200
TZNAME:CEST
DTSTART:20250330T010000
END:DAYLIGHT
BEGIN:STANDARD
TZOFFSETFROM:+0200
TZOFFSETTO:+0100
TZNAME:CET
DTSTART:20251026T010000
END:STANDARD
END:VTIMEZONE
BEGIN:VEVENT
DTSTART;VALUE=DATE:20241003
DTEND;VALUE=DATE:20241005
DTSTAMP:20260421T125941
CREATED:20240628T103709Z
LAST-MODIFIED:20240628T103806Z
UID:10000088-1727913600-1728086399@pensionseurope.eu
SUMMARY:FIAP-ABRAPP International Seminar :Trends in Pension Systems Worldwide
DESCRIPTION:
URL:https://pensionseurope.eu/event/fiap-abrapp-international-seminar-trends-in-pension-systems-worldwide/
END:VEVENT
BEGIN:VEVENT
DTSTART;TZID=Europe/Brussels:20241009T140000
DTEND;TZID=Europe/Brussels:20241009T150000
DTSTAMP:20260421T125941
CREATED:20240916T111128Z
LAST-MODIFIED:20241009T130733Z
UID:10000095-1728482400-1728486000@pensionseurope.eu
SUMMARY:Webinar on the newsletter 2024/04
DESCRIPTION:
URL:https://pensionseurope.eu/event/webinar-on-the-newsletter-2024-04/
LOCATION:Bucharest\, Romania
END:VEVENT
BEGIN:VEVENT
DTSTART;TZID=Europe/Brussels:20241010T080000
DTEND;TZID=Europe/Brussels:20241010T170000
DTSTAMP:20260421T125941
CREATED:20240704T135124Z
LAST-MODIFIED:20240704T140301Z
UID:10000089-1728547200-1728579600@pensionseurope.eu
SUMMARY:European Finance Forum
DESCRIPTION:
URL:https://pensionseurope.eu/event/european-finance-forum-2/
LOCATION:Paris\, Pullman Paris Montparnasse Hotel\, Paris\, France
END:VEVENT
END:VCALENDAR