BEGIN:VCALENDAR
VERSION:2.0
PRODID:-//PensionsEurope - ECPv6.15.20//NONSGML v1.0//EN
CALSCALE:GREGORIAN
METHOD:PUBLISH
X-ORIGINAL-URL:https://pensionseurope.eu
X-WR-CALDESC:Events for PensionsEurope
REFRESH-INTERVAL;VALUE=DURATION:PT1H
X-Robots-Tag:noindex
X-PUBLISHED-TTL:PT1H
BEGIN:VTIMEZONE
TZID:Europe/Brussels
BEGIN:DAYLIGHT
TZOFFSETFROM:+0100
TZOFFSETTO:+0200
TZNAME:CEST
DTSTART:20230326T010000
END:DAYLIGHT
BEGIN:STANDARD
TZOFFSETFROM:+0200
TZOFFSETTO:+0100
TZNAME:CET
DTSTART:20231029T010000
END:STANDARD
BEGIN:DAYLIGHT
TZOFFSETFROM:+0100
TZOFFSETTO:+0200
TZNAME:CEST
DTSTART:20240331T010000
END:DAYLIGHT
BEGIN:STANDARD
TZOFFSETFROM:+0200
TZOFFSETTO:+0100
TZNAME:CET
DTSTART:20241027T010000
END:STANDARD
BEGIN:DAYLIGHT
TZOFFSETFROM:+0100
TZOFFSETTO:+0200
TZNAME:CEST
DTSTART:20250330T010000
END:DAYLIGHT
BEGIN:STANDARD
TZOFFSETFROM:+0200
TZOFFSETTO:+0100
TZNAME:CET
DTSTART:20251026T010000
END:STANDARD
END:VTIMEZONE
BEGIN:VEVENT
DTSTART;TZID=Europe/Brussels:20241118T140000
DTEND;TZID=Europe/Brussels:20241118T180000
DTSTAMP:20260421T110629
CREATED:20231222T094029Z
LAST-MODIFIED:20241115T161808Z
UID:10000042-1731938400-1731952800@pensionseurope.eu
SUMMARY:Corporate and Supporter Members Seminar 2024
DESCRIPTION:
URL:https://pensionseurope.eu/event/corporate-and-supporter-meeting/
LOCATION:Cercle Royal Gaulois\, 5 rue de la Loi\, Brussels\, 1000\, Belgium
CATEGORIES:Public
END:VEVENT
BEGIN:VEVENT
DTSTART;TZID=Europe/Brussels:20241126T140000
DTEND;TZID=Europe/Brussels:20241126T160000
DTSTAMP:20260421T110629
CREATED:20241009T080048Z
LAST-MODIFIED:20241125T134249Z
UID:10000099-1732629600-1732636800@pensionseurope.eu
SUMMARY:European Retirement Week - PensionsEurope Webinar
DESCRIPTION:
URL:https://pensionseurope.eu/event/european-retirement-week/
LOCATION:ONLINE
CATEGORIES:Public
END:VEVENT
END:VCALENDAR