BEGIN:VCALENDAR
VERSION:2.0
PRODID:-//PensionsEurope - ECPv6.15.20//NONSGML v1.0//EN
CALSCALE:GREGORIAN
METHOD:PUBLISH
X-WR-CALNAME:PensionsEurope
X-ORIGINAL-URL:https://pensionseurope.eu
X-WR-CALDESC:Events for PensionsEurope
REFRESH-INTERVAL;VALUE=DURATION:PT1H
X-Robots-Tag:noindex
X-PUBLISHED-TTL:PT1H
BEGIN:VTIMEZONE
TZID:Europe/Brussels
BEGIN:DAYLIGHT
TZOFFSETFROM:+0100
TZOFFSETTO:+0200
TZNAME:CEST
DTSTART:20220327T010000
END:DAYLIGHT
BEGIN:STANDARD
TZOFFSETFROM:+0200
TZOFFSETTO:+0100
TZNAME:CET
DTSTART:20221030T010000
END:STANDARD
BEGIN:DAYLIGHT
TZOFFSETFROM:+0100
TZOFFSETTO:+0200
TZNAME:CEST
DTSTART:20230326T010000
END:DAYLIGHT
BEGIN:STANDARD
TZOFFSETFROM:+0200
TZOFFSETTO:+0100
TZNAME:CET
DTSTART:20231029T010000
END:STANDARD
BEGIN:DAYLIGHT
TZOFFSETFROM:+0100
TZOFFSETTO:+0200
TZNAME:CEST
DTSTART:20240331T010000
END:DAYLIGHT
BEGIN:STANDARD
TZOFFSETFROM:+0200
TZOFFSETTO:+0100
TZNAME:CET
DTSTART:20241027T010000
END:STANDARD
END:VTIMEZONE
BEGIN:VEVENT
DTSTART;TZID=Europe/Brussels:20231130T140000
DTEND;TZID=Europe/Brussels:20231130T160000
DTSTAMP:20260422T133251
CREATED:20231127T184012Z
LAST-MODIFIED:20231214T150539Z
UID:10000016-1701352800-1701360000@pensionseurope.eu
SUMMARY:AEIP & PensionsEurope joint Webinar - European Retirement Week
DESCRIPTION:Thursday\, November 30\, 2023 – 14:00 to 16:00\n\n\n\n\n\n\n\nOn 30 November 2023\, the European Association of Paritarian Institutions – AEIP and PensionsEurope are organising a joint webinar on the topic of Closing the communication pension gap – How to provide better information to members and beneficiaries? \nThe event will bring together pension fund representatives\, experts\, researchers\, policymakers\, and stakeholders to discuss the opportunities and challenges for pension funds on how to provide better information to members and beneficiaries. \nThe first panel will focus on the EU legislative agenda on the topic of improving communication for members and beneficiaries. \nThe second panel will cover recent relevant European initiatives and highlight pension funds’ best practices and actions on what makes good communication for participants. \nThe joint event is part of the third edition of the European Retirement Week\, which will take place from 27 November to 1 December 2023 as an initiative of 14 European associations. Its main objective is to provide a platform to debate the future of pensions and raise citizens’ awareness of the need to save for retirement. \nThe full programme is available below. \n\n\n\nFinal Programme\n\n\n\nThe recording is available on replay here.\nhttps://www.youtube.com/watch?v=N9rMdkPH0Z4
URL:https://pensionseurope.eu/event/aeip-pensionseurope-joint-webinar-european-retirement-week/
CATEGORIES:Public
END:VEVENT
END:VCALENDAR